BEGIN:VCALENDAR
VERSION:2.0
PRODID:icalendar-ruby
CALSCALE:GREGORIAN
METHOD:PUBLISH
BEGIN:VEVENT
DTSTAMP:20260422T112134Z
UID:8-743692@thepentecostals.tithelysetup8.com
DTSTART:20261007T020000Z
DTEND:20261007T030000Z
CLASS:PUBLIC
CREATED:20260421T172217
DESCRIPTION:
LAST-MODIFIED:20260421T172217
LOCATION:
SUMMARY:Life Classes
URL;VALUE=URI:https://thepow.org/events/life-classes/2026-10-06
END:VEVENT
END:VCALENDAR
