BEGIN:VCALENDAR
VERSION:2.0
PRODID:icalendar-ruby
CALSCALE:GREGORIAN
METHOD:PUBLISH
BEGIN:VEVENT
DTSTAMP:20260424T093420Z
UID:8-749656@thepentecostals.tithelysetup8.com
DTSTART:20261014T020000Z
DTEND:20261014T030000Z
CLASS:PUBLIC
CREATED:20260423T185620
DESCRIPTION:
LAST-MODIFIED:20260423T185620
LOCATION:
SUMMARY:Life Classes
URL;VALUE=URI:https://thepow.org/events/life-classes/2026-10-13
END:VEVENT
END:VCALENDAR
