BEGIN:VCALENDAR
VERSION:2.0
PRODID:icalendar-ruby
CALSCALE:GREGORIAN
METHOD:PUBLISH
BEGIN:VEVENT
DTSTAMP:20260424T121218Z
UID:8-750155@thepentecostals.tithelysetup8.com
DTSTART:20261028T020000Z
DTEND:20261028T030000Z
CLASS:PUBLIC
CREATED:20260424T042448
DESCRIPTION:
LAST-MODIFIED:20260424T042448
LOCATION:
SUMMARY:Life Classes
URL;VALUE=URI:https://thepow.org/events/life-classes/2026-10-27
END:VEVENT
END:VCALENDAR
