BEGIN:VCALENDAR
VERSION:2.0
PRODID:icalendar-ruby
CALSCALE:GREGORIAN
METHOD:PUBLISH
BEGIN:VEVENT
DTSTAMP:20260424T132808Z
UID:8-750156@thepentecostals.tithelysetup8.com
DTSTART:20261104T030000Z
DTEND:20261104T040000Z
CLASS:PUBLIC
CREATED:20260424T042448
DESCRIPTION:
LAST-MODIFIED:20260424T042448
LOCATION:
SUMMARY:Life Classes
URL;VALUE=URI:https://thepow.org/events/life-classes/2026-11-03
END:VEVENT
END:VCALENDAR
