BEGIN:VCALENDAR
VERSION:2.0
PRODID:icalendar-ruby
CALSCALE:GREGORIAN
METHOD:PUBLISH
BEGIN:VEVENT
DTSTAMP:20260421T113651Z
UID:6-740941@thepentecostals.tithelysetup8.com
DTSTART:20260503T170000Z
DTEND:20260503T190000Z
CLASS:PUBLIC
CREATED:20260421T041501
DESCRIPTION:
LAST-MODIFIED:20260421T041501
LOCATION:
SUMMARY:Sunday Worship & Word
URL;VALUE=URI:https://thepow.org/events/sunday-worship-word/2026-05-03
END:VEVENT
END:VCALENDAR
